<?xml version="1.0" encoding="ISO-8859-1"?>
<metadata>
	<idinfo>
		<citation>
			<citeinfo>
				<origin>Bill Kramber</origin>
				<pubdate>20040419</pubdate>
				<title Sync="TRUE">idshrel2aw_spot10.sid</title>
				<geoform Sync="TRUE">remote-sensing image</geoform>
				<pubinfo>
					<pubplace>Boise, ID</pubplace>
					<publish>Idaho Department of Water Resources</publish>
				</pubinfo>
				<onlink Sync="TRUE">\\a019\gisdata\Spatial\Elevation\ShadedRelief\idshrel2aw_spot10.sid</onlink>
				<ftname Sync="TRUE">idshrel2aw_spot10.sid</ftname></citeinfo>
		</citation>
		<descript>
			<abstract>Shaded relief image of Idaho with "ShadeMAX Color System legend ddelev2a.avl as developed by Jim Mossman (02-05-2000).</abstract>
			<purpose>As a background image.</purpose>
			<supplinf>Began with idshrel2a_spot10 tiles 

1. Converted background pixels from black (0) to white (255) on idshrel2a_spot10 tiles using a script as written from a graphical model in ERDAS 8.5 (MWilkins 05-28-2004).
an example follows for tile1:

COMMENT "Generated from graphical model: e:/shadedrelief/new/idshrel2aw_spot10t_1.gmd";
# idshrel2aw_spot10t_1.tif
# Background = 255
# Make White Background (255)
#  (($n15_idshrel2a_spot10t_1(1) EQ 0) AND
# ($n15_idshrel2a_spot10t_1(2) EQ 0) AND
# ($n15_idshrel2a_spot10t_1(3) EQ 0)) OR
# $n15_idshrel2a_spot10t_1 OTHERWISE
# EITHER 255 IF
#
# set cell size for the model
#
SET CELLSIZE MIN;
#
# set window for the model
#
SET WINDOW INTERSECTION;
#
# set area of interest for the model
#
SET AOI NONE;
#
# declarations
#
Integer RASTER n15_idshrel2a_spot10t_1 FILE OLD NEAREST NEIGHBOR AOI NONE "e:/shadedrelief/new/idshrel2a_spot10t_1.tif";
Integer RASTER n21_idshrel2aw_spot10t_1 FILE DELETE_IF_EXISTING IGNORE 0 ATHEMATIC 8 BIT UNSIGNED INTEGER "e:/shadedrelief/new/idshrel2aw_spot10t_1.tif";
#
# function definitions
#
n21_idshrel2aw_spot10t_1 = EITHER 255 IF (($n15_idshrel2a_spot10t_1(1) EQ 0) AND ($n15_idshrel2a_spot10t_1(2) EQ 0) AND ($n15_idshrel2a_spot10t_1(3) EQ 0)) OR $n15_idshrel2a_spot10t_1 OTHERWISE
;
QUIT;

2. Processed .tifs thru MrSid Compression software (MWilkins 06-01-2004) to create mosaic

Input filename:  H:\MRSID\MBW\list2aw.txt
Output filename: H:\MRSID\MBW\idshrel2aw_spot10.sid
Input filesize: 6.15 Gb (6,604,528,850 bytes)
Output filesize: 271.00 Mb (284,162,945 bytes)
Input BitRate: 8
Input Wordlength (in bits): 8
Target compression ratio: 20.00
Actual compression ratio: 23.24
File type: Geo TIFF
Georeferencing: Geo TIFF

Start time: Sat May 29 03:16:01 2004
Completion time: Sat May 29 16:19:33 2004
Intensity weight: 4.00
Gamma: 2.00

d:\mrsid\mrsid_encode -mos -tifw -i H:\MRSID\MBW\list2aw.txt -b 1024 -n 8 
-tpc 255_255_255 -bgc 255_255_255 -t H:\temp -o H:\MRSID\MBW\idshrel2aw_spot10.sid</supplinf>
			<langdata Sync="TRUE">en</langdata></descript>
		<timeperd>
			<timeinfo>
				<sngdate>
					<caldate>unknowwn</caldate>
					<time>unknown</time>
				</sngdate>
			</timeinfo>
			<current>publication date</current>
		</timeperd>
		<status>
			<progress>Complete</progress>
			<update>None planned</update>
		</status>
		<spdom>
			<bounding>
				<westbc Sync="TRUE">-117.531677</westbc>
				<eastbc Sync="TRUE">-110.655246</eastbc>
				<northbc Sync="TRUE">49.039198</northbc>
				<southbc Sync="TRUE">41.946049</southbc>
			</bounding>
			<lboundng><leftbc Sync="TRUE">2241640.000000</leftbc><rightbc Sync="TRUE">2744650.000000</rightbc><bottombc Sync="TRUE">1198730.000000</bottombc><topbc Sync="TRUE">1982030.000000</topbc></lboundng></spdom>
		<keywords>
			<theme>
				<themekt>ESRI Geography Network Thesaurus</themekt>
				<themekey>shaded relief</themekey>
			</theme>
			<place>
				<placekt>None</placekt>
				<placekey>Idaho</placekey>
			</place>
		</keywords>
		<accconst>Public</accconst>
		<useconst>Persons using information from this site for official purposes, or other purposes, for which accuracy and completeness are required, are hereby notified that they should first verify the information with the public records or other primary sources from which the information was obtained.</useconst>
		<ptcontac>
			<cntinfo>
				<cntperp>
					<cntper>Bill Kramber</cntper>
					<cntorg>IDWR</cntorg>
				</cntperp>
				<cntpos>Senior Remote Sensing Analyst</cntpos>
				<cntaddr>
					<addrtype>mailing</addrtype>
					<address>322 East Front Street</address>
					<city>Boise</city>
					<state>Idaho</state>
					<postal>83720-0098</postal>
					<country>USA</country>
				</cntaddr>
				<cntvoice>208-287-4878</cntvoice>
				<cntfax>(208) 287-6700</cntfax>
				<cntemail>bill.kramber@idwr.idaho.gov</cntemail>
				<hours>8:00 AM to 4:30 PM Mountain Time</hours>
			</cntinfo>
		</ptcontac>
		<native Sync="TRUE">Microsoft Windows 2000 Version 5.0 (Build 2195) Service Pack 4; ESRI ArcCatalog 9.0.0.535</native>
		<natvform Sync="TRUE">Raster Dataset</natvform></idinfo>
	<dataqual>
		<logic>ESRI feature type: , Geometry: , Topology: </logic>
		<complete>Data set has been visually inspected.  All data produced strives to meet National Mapping Accuracy Standards (NMAS).</complete>
		<lineage>
			<srcinfo>
				<srctime>
					<timeinfo>
						<sngdate></sngdate>
					</timeinfo>
				</srctime>
			</srcinfo>
			<procstep>
				<procdesc>Began with idshrel2a_spot10 tiles 

1. Converted background pixels from black (0) to white (255) on idshrel2a_spot10 tiles using a script as written from a graphical model in ERDAS 8.5 (MWilkins 05-28-2004).
an example follows for tile1:

COMMENT "Generated from graphical model: e:/shadedrelief/new/idshrel2aw_spot10t_1.gmd";
# idshrel2aw_spot10t_1.tif
# Background = 255
# Make White Background (255)
#  (($n15_idshrel2a_spot10t_1(1) EQ 0) AND
# ($n15_idshrel2a_spot10t_1(2) EQ 0) AND
# ($n15_idshrel2a_spot10t_1(3) EQ 0)) OR
# $n15_idshrel2a_spot10t_1 OTHERWISE
# EITHER 255 IF
#
# set cell size for the model
#
SET CELLSIZE MIN;
#
# set window for the model
#
SET WINDOW INTERSECTION;
#
# set area of interest for the model
#
SET AOI NONE;
#
# declarations
#
Integer RASTER n15_idshrel2a_spot10t_1 FILE OLD NEAREST NEIGHBOR AOI NONE "e:/shadedrelief/new/idshrel2a_spot10t_1.tif";
Integer RASTER n21_idshrel2aw_spot10t_1 FILE DELETE_IF_EXISTING IGNORE 0 ATHEMATIC 8 BIT UNSIGNED INTEGER "e:/shadedrelief/new/idshrel2aw_spot10t_1.tif";
#
# function definitions
#
n21_idshrel2aw_spot10t_1 = EITHER 255 IF (($n15_idshrel2a_spot10t_1(1) EQ 0) AND ($n15_idshrel2a_spot10t_1(2) EQ 0) AND ($n15_idshrel2a_spot10t_1(3) EQ 0)) OR $n15_idshrel2a_spot10t_1 OTHERWISE
;
QUIT;

2. Processed .tifs thru MrSid Compression software (MWilkins 06-01-2004) to create mosaic

Input filename:  H:\MRSID\MBW\list2aw.txt
Output filename: H:\MRSID\MBW\idshrel2aw_spot10.sid
Input filesize: 6.15 Gb (6,604,528,850 bytes)
Output filesize: 271.00 Mb (284,162,945 bytes)
Input BitRate: 8
Input Wordlength (in bits): 8
Target compression ratio: 20.00
Actual compression ratio: 23.24
File type: Geo TIFF
Georeferencing: Geo TIFF

Start time: Sat May 29 03:16:01 2004
Completion time: Sat May 29 16:19:33 2004
Intensity weight: 4.00
Gamma: 2.00

d:\mrsid\mrsid_encode -mos -tifw -i H:\MRSID\MBW\list2aw.txt -b 1024 -n 8 
-tpc 255_255_255 -bgc 255_255_255 -t H:\temp -o H:\MRSID\MBW\idshrel2</procdesc>
				<time Sync="TRUE">11473100</time>
			</procstep>
			<procstep><procdesc Sync="TRUE">Metadata imported.</procdesc><date Sync="TRUE">20040702</date><time Sync="TRUE">10155400</time></procstep></lineage>
	</dataqual>
	<spdoinfo>
		<direct Sync="TRUE">Raster</direct>
		<rastinfo>
			<rasttype Sync="TRUE">Pixel</rasttype>
			<rowcount Sync="TRUE">78330</rowcount>
			<colcount Sync="TRUE">50301</colcount>
			<vrtcount Sync="TRUE">1</vrtcount>
			<rastxsz Sync="TRUE">10.000000</rastxsz><rastysz Sync="TRUE">10.000000</rastysz><rastbpp Sync="TRUE">8</rastbpp><rastorig Sync="TRUE">Upper Left</rastorig><rastcmap Sync="TRUE">FALSE</rastcmap><rastcomp Sync="TRUE">Wavelet</rastcomp><rastband Sync="TRUE">3</rastband><rastdtyp Sync="TRUE">pixel codes</rastdtyp><rastplyr Sync="TRUE">TRUE</rastplyr><rastifor Sync="TRUE">MrSID</rastifor></rastinfo>
	</spdoinfo>
	<spref>
		<horizsys>
			<planar>
				<mapproj>
					<mapprojn Sync="TRUE">Transverse Mercator</mapprojn>
					<transmer>
						<sfctrmer Sync="TRUE">0.999600</sfctrmer>
						<longcm Sync="TRUE">-114.000000</longcm>
						<latprjo Sync="TRUE">42.000000</latprjo>
						<feast Sync="TRUE">2500000.000000</feast>
						<fnorth Sync="TRUE">1200000.000000</fnorth>
					</transmer>
				</mapproj>
				<planci>
					<plance Sync="TRUE">row and column</plance>
					<coordrep>
						<absres Sync="TRUE">10.000000</absres>
						<ordres Sync="TRUE">10.000000</ordres>
					</coordrep>
					<plandu Sync="TRUE">meters</plandu>
				</planci>
			</planar>
			<geodetic>
				<horizdn Sync="TRUE">North American Datum of 1983</horizdn>
				<ellips Sync="TRUE">Geodetic Reference System 80</ellips>
				<semiaxis Sync="TRUE">6378137.000000</semiaxis>
				<denflat Sync="TRUE">298.257222</denflat>
			</geodetic>
		</horizsys>
	</spref>
	<eainfo>
		<detailed Name="Band_1">
			<enttyp>
				<enttypl Sync="TRUE">Band_1</enttypl>
				<enttypt Sync="TRUE">Table</enttypt><enttypc Sync="TRUE">256</enttypc></enttyp>
			<attr>
				<attrlabl Sync="TRUE">ObjectID</attrlabl>
				<attrdef Sync="TRUE">Internal feature number.</attrdef>
				<attrdefs Sync="TRUE">ESRI</attrdefs>
				<attrdomv>
					<udom Sync="TRUE">Sequential unique whole numbers that are automatically generated.</udom>
				</attrdomv>
				<attalias Sync="TRUE">ObjectID</attalias><attrtype Sync="TRUE">OID</attrtype><attwidth Sync="TRUE">4</attwidth><atprecis Sync="TRUE">0</atprecis><attscale Sync="TRUE">0</attscale></attr>
			<attr>
				<attrlabl Sync="TRUE">Value</attrlabl>
				<attalias Sync="TRUE">Value</attalias><attrtype Sync="TRUE">Integer</attrtype><attwidth Sync="TRUE">0</attwidth><atprecis Sync="TRUE">0</atprecis><attscale Sync="TRUE">0</attscale></attr>
			<attr>
				<attrlabl Sync="TRUE">Count</attrlabl>
				<attalias Sync="TRUE">Count</attalias><attrtype Sync="TRUE">Integer</attrtype><attwidth Sync="TRUE">0</attwidth><atprecis Sync="TRUE">0</atprecis><attscale Sync="TRUE">0</attscale></attr>
		</detailed>
		<detailed Name="Band_2">
			<enttyp>
				<enttypl Sync="TRUE">Band_2</enttypl>
				<enttypt Sync="TRUE">Table</enttypt><enttypc Sync="TRUE">256</enttypc></enttyp>
			<attr>
				<attrlabl Sync="TRUE">ObjectID</attrlabl>
				<attrdef Sync="TRUE">Internal feature number.</attrdef>
				<attrdefs Sync="TRUE">ESRI</attrdefs>
				<attrdomv>
					<udom Sync="TRUE">Sequential unique whole numbers that are automatically generated.</udom>
				</attrdomv>
				<attalias Sync="TRUE">ObjectID</attalias><attrtype Sync="TRUE">OID</attrtype><attwidth Sync="TRUE">4</attwidth><atprecis Sync="TRUE">0</atprecis><attscale Sync="TRUE">0</attscale></attr>
			<attr>
				<attrlabl Sync="TRUE">Value</attrlabl>
				<attalias Sync="TRUE">Value</attalias><attrtype Sync="TRUE">Integer</attrtype><attwidth Sync="TRUE">0</attwidth><atprecis Sync="TRUE">0</atprecis><attscale Sync="TRUE">0</attscale></attr>
			<attr>
				<attrlabl Sync="TRUE">Count</attrlabl>
				<attalias Sync="TRUE">Count</attalias><attrtype Sync="TRUE">Integer</attrtype><attwidth Sync="TRUE">0</attwidth><atprecis Sync="TRUE">0</atprecis><attscale Sync="TRUE">0</attscale></attr>
		</detailed>
		<detailed Name="Band_3">
			<enttyp>
				<enttypl Sync="TRUE">Band_3</enttypl>
				<enttypt Sync="TRUE">Table</enttypt><enttypc Sync="TRUE">256</enttypc></enttyp>
			<attr>
				<attrlabl Sync="TRUE">ObjectID</attrlabl>
				<attrdef Sync="TRUE">Internal feature number.</attrdef>
				<attrdefs Sync="TRUE">ESRI</attrdefs>
				<attrdomv>
					<udom Sync="TRUE">Sequential unique whole numbers that are automatically generated.</udom>
				</attrdomv>
				<attalias Sync="TRUE">ObjectID</attalias><attrtype Sync="TRUE">OID</attrtype><attwidth Sync="TRUE">4</attwidth><atprecis Sync="TRUE">0</atprecis><attscale Sync="TRUE">0</attscale></attr>
			<attr>
				<attrlabl Sync="TRUE">Value</attrlabl>
				<attalias Sync="TRUE">Value</attalias><attrtype Sync="TRUE">Integer</attrtype><attwidth Sync="TRUE">0</attwidth><atprecis Sync="TRUE">0</atprecis><attscale Sync="TRUE">0</attscale></attr>
			<attr>
				<attrlabl Sync="TRUE">Count</attrlabl>
				<attalias Sync="TRUE">Count</attalias><attrtype Sync="TRUE">Integer</attrtype><attwidth Sync="TRUE">0</attwidth><atprecis Sync="TRUE">0</atprecis><attscale Sync="TRUE">0</attscale></attr>
		</detailed>
	</eainfo>
	<distinfo>
		<distrib>
			<cntinfo>
				<cntorgp>
					<cntorg>Idaho Department of Water Resources</cntorg>
					<cntper>Bill Kramber</cntper>
				</cntorgp>
				<cntpos>Senior Remote Sensing Analyst</cntpos>
				<cntaddr>
					<addrtype>mailing</addrtype>
					<address>322 East Front Street</address>
					<city>Boise</city>
					<state>Idaho</state>
					<postal>83720-0098</postal>
					<country>USA</country>
				</cntaddr>
				<cntvoice>208-287-4878</cntvoice>
				<cntfax>(208) 287-6700</cntfax>
				<cntemail>bill.kramber@idwr.idaho.gov</cntemail>
				<hours>8:00 AM to 4:30 PM Mountain Time</hours>
			</cntinfo>
		</distrib>
		<resdesc>\\DWR495\E$\ShadedRelief\NEW\idshrel2a.tif</resdesc>
		<distliab>The information depicted in this GIS layer is the result of digital analyses performed on a database consisting of information from a variety of governmental and other credible sources.  The accuracy of the information presented is limited to the collective accuracy of the database on the date of the analysis.  The information is believed accurate and reasonable efforts have been made to ensure the accuracy of the data.  However, the Idaho Department of Water Resources expressly disclaims responsibility for damages or liability that may arise from use of this data.  This product is the property of the Idaho Department of Water Resources and its use is thereby restricted.</distliab>
		<stdorder>
			<digform>
				<digtinfo>
					<formname>ESRI data format, dependent upon request</formname>
					<filedec>No compression applied</filedec>
					<transize Sync="TRUE">270.999</transize>
					<dssize Sync="TRUE">270.999</dssize></digtinfo>
				<digtopt>
					<onlinopt>
						<computer>
							<networka>
								<networkr>\\DWR495\E$\ShadedRelief\NEW\idshrel2a.tif</networkr>
							</networka>
						</computer>
						<accinstr>Local area network</accinstr>
					</onlinopt>
				</digtopt>
			</digform>
			<fees>To be determined at time of order</fees>
		</stdorder>
	</distinfo>
	<metainfo>
		<metd Sync="TRUE">20041220</metd>
		<metc>
			<cntinfo>
				<cntorgp>
					<cntorg>Idaho Department of Water Resources</cntorg>
					<cntper>Bill Kramber</cntper>
				</cntorgp>
				<cntpos>Senior Remote Sensing Analyst</cntpos>
				<cntaddr>
					<addrtype>mailing</addrtype>
					<address>322 East Front Street</address>
					<city>Boise</city>
					<state>Idaho</state>
					<postal>83720-0098</postal>
					<country>USA</country>
				</cntaddr>
				<cntvoice>208-287-4878</cntvoice>
				<cntfax>(208) 287-6700</cntfax>
				<cntemail>bill.kramber@idwr.idaho.gov</cntemail>
				<hours>8:00 AM to 4:30 PM Mountain Time</hours>
			</cntinfo>
		</metc>
		<metstdn Sync="TRUE">FGDC Content Standards for Digital Geospatial Metadata</metstdn>
		<metstdv Sync="TRUE">FGDC-STD-001-1998</metstdv>
		<mettc Sync="TRUE">local time</mettc>
		<metextns>
			<onlink>&lt;http://www.esri.com/metadata/esriprof80.html&gt;</onlink>
			<metprof>
ESRI Metadata Profile

Generated by mp version 2.4.38 on Thu Aug 23 10:33:30 2001
</metprof>
		</metextns>
		<langmeta Sync="TRUE">en</langmeta><metextns><onlink Sync="TRUE">http://www.esri.com/metadata/esriprof80.html</onlink><metprof Sync="TRUE">ESRI Metadata Profile</metprof></metextns></metainfo>
Qk3uNwEAAAAAADYAAAAoAAAAyAAAAIUAAAABABgAAAAAALg3AQAAAAAAAAAAAAAAAAAAAAAA////
////////////////////////////////////////////////////////////////////////////
////////////////////////////////////////////////////////////////////////////
////////////////////////////////////////////////////////////////////////////
////////////////////////////////////////////////////////////////////////////
////////////////////////////////////////////////////////////////////////////
////////////////////////////////////////////////////////////////////////////
////////////////////////////////////////////////////////////////////////////
////////////////////////////////////////////////////////////////////////////
////////////////////////////////////////////////////////////////////////////
////////////////////////////////////////////////////////////////////////////
////////////////////////////////////////////////////////////////////////////
////////////////////////////////////////////////////////////////////////////
////////////////////////////////////////////////////////////////////////////
////////////////////////////////////////////////////////////////////////////
////////////////////////////////////////////////////////////////////////////
////////////////////////////////////////////////////////////////////////////
////////////////////////////////////////////////////////////////////////////
////////////////////////////////////////////////////////////////////////////
////////////////////////////////////////////////////////////////////////////
////////////////////////////////////////////////////////////////////////////
////////////////////////////////////////////////////////////////////////////
////////////////////////////////////////////////////////////////////////////
////////////////////////////////////////////////////////////////////////////
////////////////////////////////////////////////////////////////////////////
////////////////////////////////////////////////////////////////////////////
////////////////////////////////////////////////////////////////////////////
////////////////////////////////////////////////////////////////////////////
////////////////////////////////////////////////////////////////////////////
////////////////////////////////////////////////////////////////////////////
////////////////////////////////////////////////////////////////////////////
////////////////////////////////////////////////////////////////////////////
////////////////////////////////////////////////////////////////////////////
////////////////////////////////////////////////////////////////////////////
////////////////////////////////////////////////////////////////////////////
////////////////////////////////////////////////////////////////////////////
////////////////////////////////////////////////////////////////////////////
////////////////////////////////////////////////////////////////////////////
////////////////////////////////////////////////////////////////////////////
////////////////////////////////////////////////////////////////////////////
////////////////////////////////////////////////////////////////////////////
////////////////////////////////////////////////////////////////////////////
////////////////////////////////////////////////////////////////////////////
////////////////////////////////////////////////////////////////////////////
////////////////////////////////////////////////////////////////////////////
////////////////////////////////////////////////////////////////////////////
////////////////////////////////////////////////////////////////////////////
////////////////////////////////////////////////////////////////////////////
////////////////////////////////////////////////////////////////////////////
////////////////////////////////////////////////////////////////////////////
////////////////////////////////////////////////////////////////////////////
////////////////////////////////////////////////////////////////////////////
////////////////////////////////////////////////////////////////////////////
////////////////////////////////////////////////////////////////////////////
////////////////////////////////////////////////////////////////////////////
////////////////////////////////////////////////////////////////////////////
////////////////////////////////////////////////////////////////////////////
////////////////////////////////////////////////////////////////////////////
////////////////////////////////////////////////////////////////////////////
////////////////////////////////////////////////////////////////////////////
////////////////////////////////////////////////////////////////////////////
////////////////////////////////////////////////////////////////////////////
////////////////////////////////////////////////////////////////////////////
////////////////////////////////////////////////////////////////////////////
////////////////////////////////////////////////////////////////////////////
////////////////////////////////////////////////////////////////////////////
////////////////////////////////////////////////////////////////////////////
////////////////////////VVVVCQwPFx8lGyQtHykyIy44KDRAKzlFMUFPNUVVN0dYOEpaO05f
QVJnSFVvRVRtR1lxTGB5TGF4TmV9UmmDVGyHVm+JWXOPXHaTYHqZY3ibYG+TV2aGVWqGWnaQYH2Z
XnqXY4GeY4CeZoKjY3qcX3eXX3mXYH+aZIOga4mqYniaZ4KjYHuZZoekaIemZYSiZISgYoKdYX+b
VW6IVG+GV3eNVXWKVHCGT2t/UWyCSFtySmJ3RlxwP1BkPlRkRFptQVVpQVdpPFJhOk9eOU1cPkte
OD5MNTtHLDI9Iy05ICk0HSMtGB4nZGds////////////////////////////////////////////
////////////////////////////////////////////////////////////////////////////
////////////////////////////////////////////////////////////////////////////
////////////////////////////////////////////////////////////////////////////
////////////////////////////////////////////////////////////////////////////
////////////////////////////////////////////////////////////////////////////
////////////////////////////////////////////////////////////////VVVVLz5LZISg
ZoakY4SgZIWhZYeiZoejZoekaIqnZ4WlZYWiZoajbImsaYClZoCiZ4SlZ4WlZYOiZ4SkZoSjaIam
ZoSjaIalZoWkaYenaoeobIWrbYGpY3mcZYaiaIimZH+fZIGgZoSjaISlZXygaX6jYHaXZIGgYoCd
bYutZnmdZXyfY36dZYWiYoCdY4OeZomkaIqma4urX3GRXHWTY4SfZIahZIWhY4Wfao2qYXybZoej
ZYKhZICfZImiaYioYH2aY4OfZIiiZYqjZYeib4yufIimeYaibHycYnycZoKjaYCmZ36inKrE////
////////////////////////////////////////////////////////////////////////////
////////////////////////////////////////////////////////////////////////////
////////////////////////////////////////////////////////////////////////////
////////////////////////////////////////////////////////////////////////////
////////////////////////////////////////////////////////////////////////////
////////////////////////////////////////////////////////////////////////////
////////////////////////////VVVVKzhFZIShZ4ilZYahZoekZoejZoakZYWiZ4ilaIemZYSi
Zoaka4qrZ4GkZoKjY4CfZoakZYWiZ4alZoakZoajZ4elZoakZYWjaIemaIWlaIWma4iraYOmY4Of
aImmaoipZ4SkZoOjZ4KkZ3uha36kXnWVYn+dYYCbbY6uaoOmc4SnW3GPYn+dZHqdX3yYZYijaIyn
a4qqcYKkYXybY4SgZYShZIGfYICbZoikaYioZIOhYX+cY4ehZ42mZoGiYXmZXnyXZIehZomkZIWh
ZYKheIuub3yYZHmcZH+fZoKkZ3yhZn+inavG////////////////////////////////////////
////////////////////////////////////////////////////////////////////////////
////////////////////////////////////////////////////////////////////////////
////////////////////////////////////////////////////////////////////////////
////////////////////////////////////////////////////////////////////////////
////////////////////////////////////////////////////////////////////////////
////////////////////////////////////////////////////////////////////VVVVKDRA
ZYWjZIahZoejZoikZ4mlZ4mmZYajZoekZ4alZYWjZoakaIinZ4OkZ4SkZoSjZYWiZYaiZ4imZoek
Z4ilZ4ekZoajZ4ilaIemZoSjZ4alZYSiaYmoZYWiZoikaoypaIqnaYenaoWoaX6kaX2iZ3qgYXeZ
